BEGIN:VCALENDAR
VERSION:2.0
PRODID:-//Squarespace Inc/Squarespace 6//v6//EN
BEGIN:VEVENT
UID:595971d91b10e3c1ed7afd91@squarespace.com
DTSTAMP:20171117T025047Z
DTSTART:20171215T010000Z
DTEND:20171215T043000Z
SUMMARY:Jazz In The Pocket - Free Entry
END:VEVENT
END:VCALENDAR
