BEGIN:VCALENDAR
VERSION:2.0
PRODID:-//Squarespace Inc/Squarespace 6//v6//EN
BEGIN:VEVENT
UID:595585491e5b6cbd4b51442b@squarespace.com
DTSTAMP:20170629T230300Z
DTSTART:20170709T180000Z
DTEND:20170709T200000Z
SUMMARY:Elle Vocal Studio's Singing Showcase  - Free Entry
END:VEVENT
END:VCALENDAR
