BEGIN:VCALENDAR
VERSION:2.0
PRODID:-//Squarespace Inc/Squarespace 6//v6//EN
BEGIN:VEVENT
UID:5954d7f5f5e231ae2f85e72e@squarespace.com
DTSTAMP:20170629T225453Z
DTSTART:20170709T000000Z
DTEND:20170709T030000Z
SUMMARY:Maryland  - Free Entry
END:VEVENT
END:VCALENDAR
