BEGIN:VCALENDAR
VERSION:2.0
PRODID:-//Squarespace Inc/Squarespace 6//v6//EN
BEGIN:VEVENT
UID:5954d7cc579fb37ae4166953@squarespace.com
DTSTAMP:20170629T225442Z
DTSTART:20170708T000000Z
DTEND:20170708T030000Z
SUMMARY:Quick Wilde\, duck!  - Free Entry
END:VEVENT
END:VCALENDAR
