BEGIN:VCALENDAR
VERSION:2.0
PRODID:-//Squarespace Inc/Squarespace 6//v6//EN
BEGIN:VEVENT
UID:5954d759440243d09533dff7@squarespace.com
DTSTAMP:20170922T010314Z
DTSTART:20171012T000000Z
DTEND:20171012T030000Z
SUMMARY:Open Mic Night with Jared Smith  - Free Entry
END:VEVENT
END:VCALENDAR
