BEGIN:VCALENDAR
VERSION:2.0
PRODID:-//Squarespace Inc/Squarespace 6//v6//EN
BEGIN:VEVENT
UID:59558d4b15d5db20863e6f66@squarespace.com
DTSTAMP:20170629T232939Z
DTSTART:20170730T000000Z
DTEND:20170730T030000Z
SUMMARY:The Doll Drums - Free Entry
END:VEVENT
END:VCALENDAR
