BEGIN:VCALENDAR
VERSION:2.0
PRODID:-//Squarespace Inc/Squarespace 6//v6//EN
BEGIN:VEVENT
UID:59558d1337c5818bc35911cd@squarespace.com
DTSTAMP:20170706T055256Z
DTSTART:20170729T000000Z
DTEND:20170729T030000Z
SUMMARY:They Were A Loner - Free Entry
END:VEVENT
END:VCALENDAR
