BEGIN:VCALENDAR
VERSION:2.0
PRODID:-//Squarespace Inc/Squarespace 6//v6//EN
BEGIN:VEVENT
UID:59558c148419c266f7a66f10@squarespace.com
DTSTAMP:20180118T024336Z
DTSTART:20180126T010000Z
DTEND:20180126T043000Z
SUMMARY:The Raskolnikovs - Free Entry
END:VEVENT
END:VCALENDAR
