BEGIN:VCALENDAR
VERSION:2.0
PRODID:-//Squarespace Inc/Squarespace 6//v6//EN
BEGIN:VEVENT
UID:59558b922994cafb3164c2b0@squarespace.com
DTSTAMP:20170629T232230Z
DTSTART:20170723T000000Z
DTEND:20170723T030000Z
SUMMARY:Both Sides of the Line - Free Entry
END:VEVENT
END:VCALENDAR
