BEGIN:VCALENDAR
VERSION:2.0
PRODID:-//Squarespace Inc/Squarespace 6//v6//EN
BEGIN:VEVENT
UID:59558b44e6f2e163e79848aa@squarespace.com
DTSTAMP:20170721T071229Z
DTSTART:20170722T000000Z
DTEND:20170722T033000Z
SUMMARY:Sam Manzanza with Tahu & The Takahes - $15 Door Sales
END:VEVENT
END:VCALENDAR
