BEGIN:VCALENDAR
VERSION:2.0
PRODID:-//Squarespace Inc/Squarespace 6//v6//EN
BEGIN:VEVENT
UID:59558aca4c8b0370caa613e7@squarespace.com
DTSTAMP:20171027T215934Z
DTSTART:20171129T010000Z
DTEND:20171129T040000Z
SUMMARY:Quiz Night hosted by Jamie Green - Free Entry
END:VEVENT
END:VCALENDAR
