BEGIN:VCALENDAR
VERSION:2.0
PRODID:-//Squarespace Inc/Squarespace 6//v6//EN
BEGIN:VEVENT
UID:595589c3ccf21099d9072296@squarespace.com
DTSTAMP:20170629T231809Z
DTSTART:20170716T000000Z
DTEND:20170716T030000Z
SUMMARY:Nicholas Saxson - Free Entry
END:VEVENT
END:VCALENDAR
