BEGIN:VCALENDAR
VERSION:2.0
PRODID:-//Squarespace Inc/Squarespace 6//v6//EN
BEGIN:VEVENT
UID:595589669de4bbd843b05e6e@squarespace.com
DTSTAMP:20170629T231358Z
DTSTART:20170715T000000Z
DTEND:20170715T033000Z
SUMMARY:Julian Temple & Grawlixes - $10 Door Sales
END:VEVENT
END:VCALENDAR
