BEGIN:VCALENDAR
VERSION:2.0
PRODID:-//Squarespace Inc/Squarespace 6//v6//EN
BEGIN:VEVENT
UID:5954d5ab893fc0e462f56094@squarespace.com
DTSTAMP:20170629T225316Z
DTSTART:20170701T000000Z
DTEND:20170701T030000Z
SUMMARY:Nick Knox\, Sobriquet Nation & Bethany Robertson  - Free Entry
END:VEVENT
END:VCALENDAR
