BEGIN:VCALENDAR
VERSION:2.0
PRODID:-//Squarespace Inc/Squarespace 6//v6//EN
BEGIN:VEVENT
UID:5ba996f9f4e1fc2155f1b0c0@squarespace.com
DTSTAMP:20180925T020146Z
DTSTART:20181109T010000Z
DTEND:20181109T043000Z
SUMMARY:Jazz In The Pocket - Free Entry
END:VEVENT
END:VCALENDAR
