BEGIN:VCALENDAR
VERSION:2.0
PRODID:-//Squarespace Inc/Squarespace 6//v6//EN
BEGIN:VEVENT
UID:5bd0fae30d9297905f479da5@squarespace.com
DTSTAMP:20181024T230636Z
DTSTART:20181116T010000Z
DTEND:20181116T043000Z
SUMMARY:Jazz In The Pocket - Free Entry
END:VEVENT
END:VCALENDAR
