BEGIN:VCALENDAR
VERSION:2.0
PRODID:-//Squarespace Inc/Squarespace 6//v6//EN
BEGIN:VEVENT
UID:5bd0fb12e5e5f022d70bcc1a@squarespace.com
DTSTAMP:20181024T230713Z
DTSTART:20181123T010000Z
DTEND:20181123T043000Z
SUMMARY:Jazz In The Pocket - Free Entry
END:VEVENT
END:VCALENDAR
