BEGIN:VCALENDAR
VERSION:2.0
PRODID:-//Squarespace Inc/Squarespace 6//v6//EN
BEGIN:VEVENT
UID:5ca7dbbff4e1fc684bf3d2d4@squarespace.com
DTSTAMP:20191203T212825Z
DTSTART:20191220T010000Z
DTEND:20191221T033000Z
SUMMARY:Jazz In The Pocket
END:VEVENT
END:VCALENDAR
