BEGIN:VCALENDAR
VERSION:2.0
PRODID:-//Squarespace Inc/Squarespace 6//v6//EN
BEGIN:VEVENT
UID:5bf1f6cd4ae237221b1dbd82@squarespace.com
DTSTAMP:20181119T235956Z
DTSTART:20181214T010000Z
DTEND:20181214T043000Z
SUMMARY:Jazz In The Pocket - Free Entry
END:VEVENT
END:VCALENDAR
