BEGIN:VCALENDAR
VERSION:2.0
PRODID:-//Squarespace Inc/Squarespace 6//v6//EN
BEGIN:VEVENT
UID:5bd0fb2ce4966b853a8d65ad@squarespace.com
DTSTAMP:20181024T230741Z
DTSTART:20181130T010000Z
DTEND:20181130T043000Z
SUMMARY:Jazz In The Pocket - Free Entry
END:VEVENT
END:VCALENDAR
