BEGIN:VCALENDAR
VERSION:2.0
PRODID:-//Squarespace Inc/Squarespace 6//v6//EN
BEGIN:VEVENT
UID:5bd0fa7c71c10bc8627b7916@squarespace.com
DTSTAMP:20181112T233703Z
DTSTART:20181129T010000Z
DTEND:20181129T040000Z
SUMMARY:Open Mic Night with Boaz Anema - Free Entry
END:VEVENT
END:VCALENDAR
