BEGIN:VCALENDAR
VERSION:2.0
PRODID:-//Squarespace Inc/Squarespace 6//v6//EN
BEGIN:VEVENT
UID:5bf1f6672b6a28d6309d723a@squarespace.com
DTSTAMP:20181118T233207Z
DTSTART:20181213T010000Z
DTEND:20181213T040000Z
SUMMARY:Open Mic Night with Boaz Anema - Free Entry
END:VEVENT
END:VCALENDAR
