BEGIN:VCALENDAR
VERSION:2.0
PRODID:-//Squarespace Inc/Squarespace 6//v6//EN
BEGIN:VEVENT
UID:5c0dfdcab8a04586ee41d29d@squarespace.com
DTSTAMP:20181210T054704Z
DTSTART:20181220T010000Z
DTEND:20181220T040000Z
SUMMARY:Open Mic Night with Boaz Anema - Free Entry
END:VEVENT
END:VCALENDAR
