BEGIN:VCALENDAR
VERSION:2.0
PRODID:-//Squarespace Inc/Squarespace 6//v6//EN
BEGIN:VEVENT
UID:5bf1f62b0e2e72908dc96209@squarespace.com
DTSTAMP:20181118T233119Z
DTSTART:20181206T010000Z
DTEND:20181206T040000Z
SUMMARY:Open Mic Night with Boaz Anema - Free Entry
END:VEVENT
END:VCALENDAR
