BEGIN:VCALENDAR
VERSION:2.0
PRODID:-//Squarespace Inc/Squarespace 6//v6//EN
BEGIN:VEVENT
UID:5a0e4dc9ec212d62c91c3202@squarespace.com
DTSTAMP:20171118T004821Z
DTSTART:20171210T010000Z
DTEND:20171210T040000Z
SUMMARY:James Dignan & Darryl Baser - Free Entry
END:VEVENT
END:VCALENDAR
