BEGIN:VCALENDAR
VERSION:2.0
PRODID:-//Squarespace Inc/Squarespace 6//v6//EN
BEGIN:VEVENT
UID:5a08f226085229359d9171bf@squarespace.com
DTSTAMP:20171126T195929Z
DTSTART:20171209T010000Z
DTEND:20171209T040000Z
SUMMARY:Nick Knox\, Bethany Robertson & Fucsha Gash - Free Entry
END:VEVENT
END:VCALENDAR
