BEGIN:VCALENDAR
VERSION:2.0
PRODID:-//Squarespace Inc/Squarespace 6//v6//EN
BEGIN:VEVENT
UID:5a20970a24a694eb0d11351f@squarespace.com
DTSTAMP:20171130T234208Z
DTSTART:20171225T060000Z
DTEND:20180105T045900Z
SUMMARY:Closed for holidays
END:VEVENT
END:VCALENDAR
