BEGIN:VCALENDAR
VERSION:2.0
PRODID:-//Squarespace Inc/Squarespace 6//v6//EN
BEGIN:VEVENT
UID:5a1b204571c10b644bb60d18@squarespace.com
DTSTAMP:20171126T201917Z
DTSTART:20171224T023000Z
DTEND:20171224T044500Z
SUMMARY:Sam Manzanza & Afro Beat Band - $10 Entry
END:VEVENT
END:VCALENDAR
