BEGIN:VCALENDAR
VERSION:2.0
PRODID:-//Squarespace Inc/Squarespace 6//v6//EN
BEGIN:VEVENT
UID:5a1b201f9140b7c306282a2f@squarespace.com
DTSTAMP:20171126T201236Z
DTSTART:20171223T010000Z
DTEND:20171223T040000Z
SUMMARY:Quick! Wilde duck.
END:VEVENT
END:VCALENDAR
