BEGIN:VCALENDAR
VERSION:2.0
PRODID:-//Squarespace Inc/Squarespace 6//v6//EN
BEGIN:VEVENT
UID:5a1b1f2b419202136916209b@squarespace.com
DTSTAMP:20171126T200834Z
DTSTART:20171221T010000Z
DTEND:20171221T040000Z
SUMMARY:Shakes & The Swell Guys
END:VEVENT
END:VCALENDAR
