BEGIN:VCALENDAR
VERSION:2.0
PRODID:-//Squarespace Inc/Squarespace 6//v6//EN
BEGIN:VEVENT
UID:5a08f1a4085229359d915a6c@squarespace.com
DTSTAMP:20171113T011328Z
DTSTART:20171203T010000Z
DTEND:20171203T040000Z
SUMMARY:Tommy Thomas - Free Entry
END:VEVENT
END:VCALENDAR
