BEGIN:VCALENDAR
VERSION:2.0
PRODID:-//Squarespace Inc/Squarespace 6//v6//EN
BEGIN:VEVENT
UID:5a373cf524a6949ae3081419@squarespace.com
DTSTAMP:20171218T035935Z
DTSTART:20171220T010000Z
DTEND:20171220T044500Z
SUMMARY:Kill Martha\, Carmina & Painted Blind - Free Entry
END:VEVENT
END:VCALENDAR
