BEGIN:VCALENDAR
VERSION:2.0
PRODID:-//Squarespace Inc/Squarespace 6//v6//EN
BEGIN:VEVENT
UID:5a0e4ed5e4966bd19844b620@squarespace.com
DTSTAMP:20171126T200654Z
DTSTART:20171217T010000Z
DTEND:20171217T040000Z
SUMMARY:Christmas Comedy Blowout - Koha Entry
END:VEVENT
END:VCALENDAR
