BEGIN:VCALENDAR
VERSION:2.0
PRODID:-//Squarespace Inc/Squarespace 6//v6//EN
BEGIN:VEVENT
UID:5a0e4e96419202f3448f12e8@squarespace.com
DTSTAMP:20171126T200405Z
DTSTART:20171216T010000Z
DTEND:20171216T040000Z
SUMMARY:Julian Temple - Free Entry
END:VEVENT
END:VCALENDAR
