BEGIN:VCALENDAR
VERSION:2.0
PRODID:-//Squarespace Inc/Squarespace 6//v6//EN
BEGIN:VEVENT
UID:5a1b1de4085229dcccb28faf@squarespace.com
DTSTAMP:20171126T200320Z
DTSTART:20171214T010000Z
DTEND:20171214T040000Z
SUMMARY:Ibo Knoebb at Dog With Two Tails
END:VEVENT
END:VCALENDAR
