BEGIN:VCALENDAR
VERSION:2.0
PRODID:-//Squarespace Inc/Squarespace 6//v6//EN
BEGIN:VEVENT
UID:5a08f17ac83025174d1e1b8d@squarespace.com
DTSTAMP:20171116T225806Z
DTSTART:20171202T010000Z
DTEND:20171202T040000Z
SUMMARY:Otis Mace\, Jay Clarkson & Darryl Baser - Free Entry
END:VEVENT
END:VCALENDAR
