BEGIN:VCALENDAR
VERSION:2.0
PRODID:-//Squarespace Inc/Squarespace 6//v6//EN
BEGIN:VEVENT
UID:59f2f460c83025541de2fd5d@squarespace.com
DTSTAMP:20171101T013308Z
DTSTART:20171109T000000Z
DTEND:20171109T030000Z
SUMMARY:Beer\, Sprits & Cheese Matching with Richard Emerson - $50 Ticketed 
 Event
END:VEVENT
END:VCALENDAR
