BEGIN:VCALENDAR
VERSION:2.0
PRODID:-//Squarespace Inc/Squarespace 6//v6//EN
BEGIN:VEVENT
UID:59c703d664b05f184cb84cc6@squarespace.com
DTSTAMP:20171027T212746Z
DTSTART:20171105T000000Z
DTEND:20171105T030000Z
SUMMARY:Möbius supported by Hanna Fahy & Jimmy Higgs - free Entry
END:VEVENT
END:VCALENDAR
