BEGIN:VCALENDAR
VERSION:2.0
PRODID:-//Squarespace Inc/Squarespace 6//v6//EN
BEGIN:VEVENT
UID:59c703b6be42d656a9539aa4@squarespace.com
DTSTAMP:20171027T212549Z
DTSTART:20171104T000000Z
DTEND:20171104T030000Z
SUMMARY:They Were A Loner - Free Entry
END:VEVENT
END:VCALENDAR
