BEGIN:VCALENDAR
VERSION:2.0
PRODID:-//Squarespace Inc/Squarespace 6//v6//EN
BEGIN:VEVENT
UID:5a136b320d929799ebd511fc@squarespace.com
DTSTAMP:20171120T235453Z
DTSTART:20171126T010000Z
DTEND:20171126T040000Z
SUMMARY:Both Sides Of The Line - Free Entry
END:VEVENT
END:VCALENDAR
