BEGIN:VCALENDAR
VERSION:2.0
PRODID:-//Squarespace Inc/Squarespace 6//v6//EN
BEGIN:VEVENT
UID:5a136b16419202b1348e946b@squarespace.com
DTSTAMP:20171120T235508Z
DTSTART:20171125T010000Z
DTEND:20171125T040000Z
SUMMARY:Boaz Anema - Free Entry
END:VEVENT
END:VCALENDAR
