BEGIN:VCALENDAR
VERSION:2.0
PRODID:-//Squarespace Inc/Squarespace 6//v6//EN
BEGIN:VEVENT
UID:59f3a71d0d9297e471de9794@squarespace.com
DTSTAMP:20171027T214152Z
DTSTART:20171119T010000Z
DTEND:20171119T043000Z
SUMMARY:Dominic Tourettes Hoey & Skyscraper Stan - $10 presale/$15 Door
END:VEVENT
END:VCALENDAR
