BEGIN:VCALENDAR
VERSION:2.0
PRODID:-//Squarespace Inc/Squarespace 6//v6//EN
BEGIN:VEVENT
UID:59f3a6af0d9297e471de8d41@squarespace.com
DTSTAMP:20171027T213713Z
DTSTART:20171118T010000Z
DTEND:20171118T040000Z
SUMMARY:Café Operana at Dog With Two Tails - Free Entry
END:VEVENT
END:VCALENDAR
