BEGIN:VCALENDAR
VERSION:2.0
PRODID:-//Squarespace Inc/Squarespace 6//v6//EN
BEGIN:VEVENT
UID:59f2f5e924a694ad6268f02d@squarespace.com
DTSTAMP:20171027T090251Z
DTSTART:20171112T010000Z
DTEND:20171112T040000Z
SUMMARY:Matt Joe Gow\, Jo Little & Tom Maxwell - Songwriters In The Round - 
 Free Entry
END:VEVENT
END:VCALENDAR
