BEGIN:VCALENDAR
VERSION:2.0
PRODID:-//Squarespace Inc/Squarespace 6//v6//EN
BEGIN:VEVENT
UID:59f2f56ff9619a61870d1dc4@squarespace.com
DTSTAMP:20171027T212837Z
DTSTART:20171111T010000Z
DTEND:20171111T040000Z
SUMMARY:Phoebe James\, support from Dan Peters & Karleigh O'Connor - Free E
 ntry
END:VEVENT
END:VCALENDAR
