BEGIN:VCALENDAR
VERSION:2.0
PRODID:-//Squarespace Inc/Squarespace 6//v6//EN
BEGIN:VEVENT
UID:59c4608e6f4ca3ec524dcb20@squarespace.com
DTSTAMP:20170922T010126Z
DTSTART:20171008T000000Z
DTEND:20171008T030000Z
SUMMARY:Tom Rodwell
END:VEVENT
END:VCALENDAR
