BEGIN:VCALENDAR
VERSION:2.0
PRODID:-//Squarespace Inc/Squarespace 6//v6//EN
BEGIN:VEVENT
UID:59c4605e12abd99347835cc7@squarespace.com
DTSTAMP:20170922T005948Z
DTSTART:20171007T000000Z
DTEND:20171007T033000Z
SUMMARY:Nick Knox\, Bethany Robertson & Time
END:VEVENT
END:VCALENDAR
