BEGIN:VCALENDAR
VERSION:2.0
PRODID:-//Squarespace Inc/Squarespace 6//v6//EN
BEGIN:VEVENT
UID:59b8a905bce176c4a1f9c07e@squarespace.com
DTSTAMP:20170928T015019Z
DTSTART:20171004T234500Z
DTEND:20171006T030000Z
SUMMARY:Golden Fig - Comedy Tour $10/$20 Ticketed Event
END:VEVENT
END:VCALENDAR
