BEGIN:VCALENDAR
VERSION:2.0
PRODID:-//Squarespace Inc/Squarespace 6//v6//EN
BEGIN:VEVENT
UID:59c70353f09ca4eb6e4062bf@squarespace.com
DTSTAMP:20171026T094314Z
DTSTART:20171029T000000Z
DTEND:20171029T030000Z
SUMMARY:Zoe Ann Scott with support from Joseph Balfe - Free Entry
END:VEVENT
END:VCALENDAR
