BEGIN:VCALENDAR
VERSION:2.0
PRODID:-//Squarespace Inc/Squarespace 6//v6//EN
BEGIN:VEVENT
UID:59c702d22994ca741bdbb18b@squarespace.com
DTSTAMP:20171026T094217Z
DTSTART:20171028T000000Z
DTEND:20171028T030000Z
SUMMARY:Charlotte Yates & Matt Langley - Free Entry
END:VEVENT
END:VCALENDAR
